BEGIN:VCALENDAR
VERSION:2.0
PRODID:-//Eventos Zenia Boulevard//NONSGML v1.0//EN
CALSCALE:GREGORIAN
BEGIN:VEVENT
DTSTART:20260423T000000
DTEND:20260423T000000
SUMMARY: La primavera sabe mejor cuando es artesanal 
LOCATION:Zenia Boulevard
URL:https://zeniaboulevard.es/eventos
END:VEVENT
END:VCALENDAR
